BEGIN:VCALENDAR
VERSION:2.0
PRODID:-//Rwydwaith Celfyddydau Rhuthun - ECPv6.14.1//NONSGML v1.0//EN
CALSCALE:GREGORIAN
METHOD:PUBLISH
X-ORIGINAL-URL:https://ruthinartsnetwork.wales
X-WR-CALDESC:Events for Rwydwaith Celfyddydau Rhuthun
REFRESH-INTERVAL;VALUE=DURATION:PT1H
X-Robots-Tag:noindex
X-PUBLISHED-TTL:PT1H
BEGIN:VTIMEZONE
TZID:Europe/London
BEGIN:DAYLIGHT
TZOFFSETFROM:+0000
TZOFFSETTO:+0100
TZNAME:BST
DTSTART:20240331T010000
END:DAYLIGHT
BEGIN:STANDARD
TZOFFSETFROM:+0100
TZOFFSETTO:+0000
TZNAME:GMT
DTSTART:20241027T010000
END:STANDARD
BEGIN:DAYLIGHT
TZOFFSETFROM:+0000
TZOFFSETTO:+0100
TZNAME:BST
DTSTART:20250330T010000
END:DAYLIGHT
BEGIN:STANDARD
TZOFFSETFROM:+0100
TZOFFSETTO:+0000
TZNAME:GMT
DTSTART:20251026T010000
END:STANDARD
END:VTIMEZONE
BEGIN:VEVENT
DTSTART;TZID=Europe/London:20250426T100000
DTEND;TZID=Europe/London:20250426T120000
DTSTAMP:20260419T150813
CREATED:20250311T093058Z
LAST-MODIFIED:20250311T093214Z
UID:1086-1745661600-1745668800@ruthinartsnetwork.wales
SUMMARY:Ysgrifennu Creadigol
DESCRIPTION:Ysgrifennu Creadigol gyda'r awdur a'r bardd lleol Pat Sumner a'r bardd a'r gyfansoddwraig Diana Sanders. \nLlyfrgell Rhuthun\, Record Street\, Rhuthun LL15 1DS \nByddwn yn ysgrifennu barddoniaeth\, ffuglen fflach a rhyddiaith gan ddefnyddio ymarferion ysgrifennu\, ffurf a beirniadaeth adeiladol. Ein prif nod yw creu awyrgylch cynnes\, hwyliog a chynhwysol lle bydd ysgrifennu yn blodeuo.
URL:https://ruthinartsnetwork.wales/cy/digwyddiad/ysgrifennu-creadigol-10/
LOCATION:Ruthin Library\, Record Street\, Ruthin\, Denbighshire\, LL15 1DS\, United Kingdom
CATEGORIES:Gweithdai
ATTACH;FMTTYPE=image/jpeg:https://ruthinartsnetwork.wales/wp-content/uploads/2025/03/20250216-Poster-for-Ruthin-Writers.jpg
ORGANIZER;CN="Pat Sumner & Diana Sanders":MAILTO:pat.cilan@outlook.com
END:VEVENT
BEGIN:VEVENT
DTSTART;TZID=Europe/London:20250329T100000
DTEND;TZID=Europe/London:20250329T120000
DTSTAMP:20260419T150813
CREATED:20250311T093020Z
LAST-MODIFIED:20250311T093236Z
UID:1088-1743242400-1743249600@ruthinartsnetwork.wales
SUMMARY:Ysgrifennu Creadigol
DESCRIPTION:Ysgrifennu Creadigol gyda'r awdur a'r bardd lleol Pat Sumner a'r bardd a'r gyfansoddwraig Diana Sanders. \nLlyfrgell Rhuthun\, Record Street\, Rhuthun LL15 1DS \nByddwn yn ysgrifennu barddoniaeth\, ffuglen fflach a rhyddiaith gan ddefnyddio ymarferion ysgrifennu\, ffurf a beirniadaeth adeiladol. Ein prif nod yw creu awyrgylch cynnes\, hwyliog a chynhwysol lle bydd ysgrifennu yn blodeuo.
URL:https://ruthinartsnetwork.wales/cy/digwyddiad/ysgrifennu-creadigol-11/
LOCATION:Ruthin Library\, Record Street\, Ruthin\, Denbighshire\, LL15 1DS\, United Kingdom
CATEGORIES:Gweithdai
ATTACH;FMTTYPE=image/jpeg:https://ruthinartsnetwork.wales/wp-content/uploads/2025/03/20250216-Poster-for-Ruthin-Writers.jpg
ORGANIZER;CN="Pat Sumner & Diana Sanders":MAILTO:pat.cilan@outlook.com
END:VEVENT
BEGIN:VEVENT
DTSTART;TZID=Europe/London:20250227T190000
DTEND;TZID=Europe/London:20250301T220000
DTSTAMP:20260419T150813
CREATED:20250211T211615Z
LAST-MODIFIED:20250211T211615Z
UID:1039-1740682800-1740866400@ruthinartsnetwork.wales
SUMMARY:Ruthin Panto - Dick Whittington
DESCRIPTION:Ruthin Panto Society return to Theatr John Ambrose to tell another classic tale in a way only they can! Prepare for adventure\, romance and mischief! Tickets are available online and from our usual outlets\, The Park Place\, Tafarn y Plu and Siop Nain.
URL:https://ruthinartsnetwork.wales/cy/digwyddiad/ruthin-panto-dick-whittington/
LOCATION:Theatr John Ambrose\, Mold Road\, Ruthin\, Denbighshire\, LL15 1EG\, United Kingdom
CATEGORIES:Theatre
ATTACH;FMTTYPE=image/png:https://ruthinartsnetwork.wales/wp-content/uploads/2025/02/Dick-Whittington-Poster-2024-web.png
END:VEVENT
BEGIN:VEVENT
DTSTART;TZID=Europe/London:20250212T190000
DTEND;TZID=Europe/London:20250212T213000
DTSTAMP:20260419T150813
CREATED:20250127T224124Z
LAST-MODIFIED:20250127T224622Z
UID:1004-1739386800-1739395800@ruthinartsnetwork.wales
SUMMARY:Cyfarfod Agored Rhwydwaith Celfyddydau Rhuthun
DESCRIPTION:Ymunwch â ni ar gyfer noson ysbrydoledig o greadigrwydd\, cysylltu\, a chydweithio yn Noson Gymdeithasol nesaf Rhwydwaith Celfyddydau Rhuthun! Mae’r digwyddiad am ddim hwn yn agored i bob aelod o’r gymuned gelfyddydol leol ac yn addo bod yn gyfarfod hamddenol a chyffrous. \nBydd y noson yn cynnwys: \n\nSgwrs gan Daniel Muckle-Jones\, ffotograffydd talentog a Chadeirydd Clwb Camera Rhuthun.\nTrafodaethau grŵp a chyfleoedd i rwydweithio gydag artistiaid eraill.\nCyfle i rannu eich syniadau ar arddangosfeydd cyhoeddus sydd ar y gweill a sut gallwch chi gymryd rhan.\nRaffl a lluniaeth ysgafn i’w mwynhau drwy gydol y noson.\n\nP’un a ydych chi’n artist sefydledig neu’n angerddol am greadigrwydd\, mae hwn yn gyfle gwych i gwrdd â phobl debyg a darganfod cyfleoedd newydd o fewn golygfa gelfyddydol fywiog Rhuthun. \nEdrychwn ymlaen at eich gweld yno!
URL:https://ruthinartsnetwork.wales/cy/digwyddiad/cyfarfod-agored-rhwydwaith-celfyddydau-rhuthun-2/
LOCATION:The Old Courthouse
END:VEVENT
BEGIN:VEVENT
DTSTART;TZID=Europe/London:20241130T100000
DTEND;TZID=Europe/London:20241130T120000
DTSTAMP:20260419T150813
CREATED:20240620T135027Z
LAST-MODIFIED:20240620T135057Z
UID:802-1732960800-1732968000@ruthinartsnetwork.wales
SUMMARY:Ysgrifennu Creadigol
DESCRIPTION:Ysgrifennu Creadigol gyda'r awdur a'r bardd lleol Pat Sumner a'r bardd a'r gyfansoddwraig Diana Sanders. \nLlyfrgell Rhuthun\, Record Street\, Rhuthun LL15 1DS \nByddwn yn ysgrifennu barddoniaeth\, ffuglen fflach a rhyddiaith gan ddefnyddio ymarferion ysgrifennu\, ffurf a beirniadaeth adeiladol. Ein prif nod yw creu awyrgylch cynnes\, hwyliog a chynhwysol lle bydd ysgrifennu yn blodeuo.
URL:https://ruthinartsnetwork.wales/cy/digwyddiad/ysgrifennu-creadigol-9/
LOCATION:Ruthin Library\, Record Street\, Ruthin\, Denbighshire\, LL15 1DS\, United Kingdom
CATEGORIES:Gweithdai
ATTACH;FMTTYPE=image/jpeg:https://ruthinartsnetwork.wales/wp-content/uploads/2024/06/Creative-Writing-Poster-3-1-scaled.jpg
ORGANIZER;CN="Pat Sumner & Diana Sanders":MAILTO:pat.cilan@outlook.com
END:VEVENT
BEGIN:VEVENT
DTSTART;TZID=Europe/London:20241112T190000
DTEND;TZID=Europe/London:20241112T203000
DTSTAMP:20260419T150813
CREATED:20240923T154354Z
LAST-MODIFIED:20241018T184214Z
UID:915-1731438000-1731443400@ruthinartsnetwork.wales
SUMMARY:Cyfarfod Agored Rhwydwaith Celfyddydau Rhuthun
DESCRIPTION:Mae Rhwydwaith Celfyddydau Rhuthun yn eich croesawu i’r digwyddiad rhad ac am ddim hwn a fydd\, gyda’ch mewnbwn\, y mwyaf diddorol a chyffrous eto. Byddwch yn cael y cyfle i gwrdd â phobl greadigol o'r un anian\, dysgu am gyfleoedd newydd\, trafod cydweithio a bod yn rhan o gymuned ysbrydoledig\, egnïol a chynhwysol. \nBydd y noson yn cynnwys: \nSiaradwr gwadd: Bethan M. Hughes\, Artist Preswyl yng Nghanolfan Grefft Rhuthun. Diweddariadau newyddion lleol gan gynnwys: cyfleoedd i gael mewnbwn i\, a siapio\, Gŵyl Gelfyddydau Ryngwladol Rhuthun a chysylltu â lleoliadau lleol. Cynigiwch eich awgrymiadau ar y cyfeiriad RAN yn y dyfodol felly mae o fudd i chi.Trafodaethau am\, Pobl\, Ymarfer\, a Lle. Amser cymdeithasol gyda lluniaeth\, rhannu syniadau a gwybodaeth.
URL:https://ruthinartsnetwork.wales/cy/digwyddiad/cyfarfod-agored-rhwydwaith-celfyddydau-rhuthun/
LOCATION:The Old Courthouse
CATEGORIES:Digwyddiadau Cymdeithasol
ATTACH;FMTTYPE=image/jpeg:https://ruthinartsnetwork.wales/wp-content/uploads/2023/12/Jude.jpg
END:VEVENT
BEGIN:VEVENT
DTSTART;TZID=Europe/London:20241026T100000
DTEND;TZID=Europe/London:20241026T120000
DTSTAMP:20260419T150813
CREATED:20240620T134925Z
LAST-MODIFIED:20240620T134947Z
UID:798-1729936800-1729944000@ruthinartsnetwork.wales
SUMMARY:Ysgrifennu Creadigol
DESCRIPTION:Ysgrifennu Creadigol gyda'r awdur a'r bardd lleol Pat Sumner a'r bardd a'r gyfansoddwraig Diana Sanders. \nLlyfrgell Rhuthun\, Record Street\, Rhuthun LL15 1DS \nByddwn yn ysgrifennu barddoniaeth\, ffuglen fflach a rhyddiaith gan ddefnyddio ymarferion ysgrifennu\, ffurf a beirniadaeth adeiladol. Ein prif nod yw creu awyrgylch cynnes\, hwyliog a chynhwysol lle bydd ysgrifennu yn blodeuo.
URL:https://ruthinartsnetwork.wales/cy/digwyddiad/ysgrifennu-creadigol-8/
LOCATION:Ruthin Library\, Record Street\, Ruthin\, Denbighshire\, LL15 1DS\, United Kingdom
CATEGORIES:Gweithdai
ATTACH;FMTTYPE=image/jpeg:https://ruthinartsnetwork.wales/wp-content/uploads/2024/06/Creative-Writing-Poster-3-1-scaled.jpg
ORGANIZER;CN="Pat Sumner & Diana Sanders":MAILTO:pat.cilan@outlook.com
END:VEVENT
BEGIN:VEVENT
DTSTART;TZID=Europe/London:20240928T100000
DTEND;TZID=Europe/London:20240928T120000
DTSTAMP:20260419T150813
CREATED:20240620T134433Z
LAST-MODIFIED:20240620T134846Z
UID:794-1727517600-1727524800@ruthinartsnetwork.wales
SUMMARY:Ysgrifennu Creadigol
DESCRIPTION:Ysgrifennu Creadigol gyda'r awdur a'r bardd lleol Pat Sumner a'r bardd a'r gyfansoddwraig Diana Sanders. \nLlyfrgell Rhuthun\, Record Street\, Rhuthun LL15 1DS \nByddwn yn ysgrifennu barddoniaeth\, ffuglen fflach a rhyddiaith gan ddefnyddio ymarferion ysgrifennu\, ffurf a beirniadaeth adeiladol. Ein prif nod yw creu awyrgylch cynnes\, hwyliog a chynhwysol lle bydd ysgrifennu yn blodeuo.
URL:https://ruthinartsnetwork.wales/cy/digwyddiad/ysgrifennu-creadigol-7/
LOCATION:Ruthin Library\, Record Street\, Ruthin\, Denbighshire\, LL15 1DS\, United Kingdom
CATEGORIES:Gweithdai
ATTACH;FMTTYPE=image/jpeg:https://ruthinartsnetwork.wales/wp-content/uploads/2024/06/Creative-Writing-Poster-3-1-scaled.jpg
ORGANIZER;CN="Pat Sumner & Diana Sanders":MAILTO:pat.cilan@outlook.com
END:VEVENT
BEGIN:VEVENT
DTSTART;TZID=Europe/London:20240907T070000
DTEND;TZID=Europe/London:20240908T160000
DTSTAMP:20260419T150813
CREATED:20240223T155902Z
LAST-MODIFIED:20240223T170918Z
UID:573-1725692400-1725811200@ruthinartsnetwork.wales
SUMMARY:Drysau Agored - Ruthin & District Civic Association
DESCRIPTION:Adeiladau diddorol a hanesyddol\, yn Rhuthun a’r ardal lleol\, yn agored dros y penwythnos i’w weld am ddim. Amrywiaeth o weithgareddau ar gael mewn rhai o’r adeiladau
URL:https://ruthinartsnetwork.wales/cy/digwyddiad/drysau-agored-ruthin-district-civic-association/
LOCATION:Denbighshire
ORGANIZER;CN="Ruthin & District Civic Association":MAILTO:Fionaegale@hotmail.co.uk
END:VEVENT
BEGIN:VEVENT
DTSTART;TZID=Europe/London:20240831T100000
DTEND;TZID=Europe/London:20240831T120000
DTSTAMP:20260419T150813
CREATED:20240620T134247Z
LAST-MODIFIED:20240620T134334Z
UID:790-1725098400-1725105600@ruthinartsnetwork.wales
SUMMARY:Ysgrifennu Creadigol
DESCRIPTION:Ysgrifennu Creadigol gyda'r awdur a'r bardd lleol Pat Sumner a'r bardd a'r gyfansoddwraig Diana Sanders. \nLlyfrgell Rhuthun\, Record Street\, Rhuthun LL15 1DS \nByddwn yn ysgrifennu barddoniaeth\, ffuglen fflach a rhyddiaith gan ddefnyddio ymarferion ysgrifennu\, ffurf a beirniadaeth adeiladol. Ein prif nod yw creu awyrgylch cynnes\, hwyliog a chynhwysol lle bydd ysgrifennu yn blodeuo.
URL:https://ruthinartsnetwork.wales/cy/digwyddiad/ysgrifennu-creadigol-6/
LOCATION:Ruthin Library\, Record Street\, Ruthin\, Denbighshire\, LL15 1DS\, United Kingdom
CATEGORIES:Gweithdai
ATTACH;FMTTYPE=image/jpeg:https://ruthinartsnetwork.wales/wp-content/uploads/2024/06/Creative-Writing-Poster-3-1-scaled.jpg
ORGANIZER;CN="Pat Sumner & Diana Sanders":MAILTO:pat.cilan@outlook.com
END:VEVENT
BEGIN:VEVENT
DTSTART;VALUE=DATE:20240803
DTEND;VALUE=DATE:20240805
DTSTAMP:20260419T150813
CREATED:20240703T170929Z
LAST-MODIFIED:20240703T171047Z
UID:859-1722643200-1722815999@ruthinartsnetwork.wales
SUMMARY:Penwythnos Llesiant
DESCRIPTION:Teimlo’n flinedig? Angen seibiant? Dewch i Eglwys Pererinion Sant Elidan yn Llanelidan (LL15 2PT) i ymlacio a gwella. Mae gennym sesiynau blasu therapi o Indian Head Massage\, Acupressure\, Adweitheg a Hands-on Healing. Bydd bore o Weddi Celtaidd a sesiwn llafarganu ar gyfer gwella. Mwynhewch Gelf a Chrefft a te prynhawn. Cael eich trochi mewn Sound Bath a Synfyfyrio. Cymerwch ran yn Tai Chi\, Gweithdy Ysgrifennu Barddoniaeth a Thaith Gerdded Cristonogol. Dysgwch y grefft o ymlacio. Colli eich
URL:https://ruthinartsnetwork.wales/cy/digwyddiad/penwythnos-llesiant/
LOCATION:St Elidans Church\, Llanelidan\, Ruthin\, Denbighshire\, LL15 2PT\, United Kingdom
ATTACH;FMTTYPE=image/jpeg:https://ruthinartsnetwork.wales/wp-content/uploads/2024/07/20240803-WellnessWeekendA4Poster-2-1-scaled.jpg
END:VEVENT
BEGIN:VEVENT
DTSTART;TZID=Europe/London:20240727T100000
DTEND;TZID=Europe/London:20240727T120000
DTSTAMP:20260419T150813
CREATED:20240620T095034Z
LAST-MODIFIED:20240620T095637Z
UID:786-1722074400-1722081600@ruthinartsnetwork.wales
SUMMARY:Ysgrifennu Creadigol
DESCRIPTION:Ysgrifennu Creadigol gyda'r awdur a'r bardd lleol Pat Sumner a'r bardd a'r gyfansoddwraig Diana Sanders. \nLlyfrgell Rhuthun\, Record Street\, Rhuthun LL15 1DS \nByddwn yn ysgrifennu barddoniaeth\, ffuglen fflach a rhyddiaith gan ddefnyddio ymarferion ysgrifennu\, ffurf a beirniadaeth adeiladol. Ein prif nod yw creu awyrgylch cynnes\, hwyliog a chynhwysol lle bydd ysgrifennu yn blodeuo.
URL:https://ruthinartsnetwork.wales/cy/digwyddiad/ysgrifennu-creadigol-5/
LOCATION:Ruthin Library\, Record Street\, Ruthin\, Denbighshire\, LL15 1DS\, United Kingdom
CATEGORIES:Gweithdai
ATTACH;FMTTYPE=image/jpeg:https://ruthinartsnetwork.wales/wp-content/uploads/2024/06/Creative-Writing-Poster-3-1-scaled.jpg
ORGANIZER;CN="Pat Sumner & Diana Sanders":MAILTO:pat.cilan@outlook.com
END:VEVENT
BEGIN:VEVENT
DTSTART;TZID=Europe/London:20240717T190000
DTEND;TZID=Europe/London:20240717T210000
DTSTAMP:20260419T150813
CREATED:20240627T161123Z
LAST-MODIFIED:20240627T161400Z
UID:848-1721242800-1721250000@ruthinartsnetwork.wales
SUMMARY:Digwyddiad Cymdeithasol Rhwydwaith Celfyddydau Rhuthun
DESCRIPTION:Ymunwch â ni am noson hyfryd o greadigrwydd a chysylltiad yn nigwyddiad cymdeithasol neasf Rhwydwaith Celfyddydau Rhuthun\, a gynhelir yn Tafarn y Ply yn Rhuthun ar Fai 15fed\, 2024. P'un a ydych yn aelod o'r rhwydwaith neu'n unigolyn creadigol yn yr ardal\, mae hyn yn mae ymgynnull yn addo bod yn gyfle gwych i gymysgu â phobl o'r un anian. \nBwriad y digwyddiad hwn yw meithrin ymdeimlad o gymuned ymhlith artistiaid\, crefftwyr a chreadigwyr lleol. P’un a ydych yn beintiwr\, cerflunydd\, awdur\, cerddor\, neu’n syml yn rhywun sydd ag angerdd am y celfyddydau\, rydym yn eich gwahodd i ymuno â ni am ddiod\, sgwrs ac i fwynhau cerddoriaeth fyw a bod yn rhan o’r hyn sy’n sicr o fod. noson gofiadwy o rwydweithio.
URL:https://ruthinartsnetwork.wales/cy/digwyddiad/digwyddiad-cymdeithasol-rhwydwaith-celfyddydau-rhuthun-2/
LOCATION:The Feathers\, 52 Well Street\, Ruthin\, Denbigshire\, LL15 1AW\, United Kingdom
ATTACH;FMTTYPE=image/jpeg:https://ruthinartsnetwork.wales/wp-content/uploads/2023/10/Ruthin-Arts-Network-Main.jpg
END:VEVENT
BEGIN:VEVENT
DTSTART;TZID=Europe/London:20240629T130000
DTEND;TZID=Europe/London:20240629T200000
DTSTAMP:20260419T150813
CREATED:20240620T140310Z
LAST-MODIFIED:20240620T140422Z
UID:810-1719666000-1719691200@ruthinartsnetwork.wales
SUMMARY:Top Dre 2024
DESCRIPTION:Prif ddigwyddiad wythnos yr wyl. 7 awr o gerddoriaeth a dawns ar 2 lwyfan ar sgwâr hanesyddol y dref gydag artistiaid yn amrywio o Bwncath a Fleur de Lys\, i Ddawnswyr Wcrain Hoverla ac artistiaid lleol Shambolix a Geraint Woolford. Mae’n ddigwyddiad i’r gymuned gyfan ddod at ei gilydd am brynhawn o adloniant. Bydd ardal weithgareddau ar dir Eglwys San Pedr. Gofynnir i bobl dalu'r ffi mynediad fel y gall y digwyddiad ddychwelyd yn 2025!!
URL:https://ruthinartsnetwork.wales/cy/digwyddiad/top-dre-2024/
LOCATION:St Peters Square\, St Peters Square\, Ruthin\, Denbighshire\, LL15 1AA\, United Kingdom
ATTACH;FMTTYPE=image/jpeg:https://ruthinartsnetwork.wales/wp-content/uploads/2024/06/ruthin-festival-gallery-78-2.jpg
END:VEVENT
BEGIN:VEVENT
DTSTART;TZID=Europe/London:20240622T100000
DTEND;TZID=Europe/London:20240622T130000
DTSTAMP:20260419T150813
CREATED:20240605T172806Z
LAST-MODIFIED:20240605T172841Z
UID:773-1719050400-1719061200@ruthinartsnetwork.wales
SUMMARY:Gwyl Glyn Myfyr
DESCRIPTION:Gweithdy Barddoniaeth gyda'r bardd a'r gyfansoddwraig arobyn\, Diana Sanders.
URL:https://ruthinartsnetwork.wales/cy/digwyddiad/gwyl-glyn-myfyr/
LOCATION:Nant Yr Odyn\, Llanfihangel Glyn Myfyr\, Corwen\, LL21 9UN\, United Kingdom
CATEGORIES:Gweithdai
ATTACH;FMTTYPE=image/jpeg:https://ruthinartsnetwork.wales/wp-content/uploads/2024/06/ff-61153ff79f11d88c053abaf507ecf547-ff-IMG_7428.jpeg
ORGANIZER;CN="Diana Sanders":MAILTO:diana.sanders@btinternet.com
END:VEVENT
BEGIN:VEVENT
DTSTART;TZID=Europe/London:20240525T100000
DTEND;TZID=Europe/London:20240525T120000
DTSTAMP:20260419T150813
CREATED:20240220T145234Z
LAST-MODIFIED:20240220T145257Z
UID:512-1716631200-1716638400@ruthinartsnetwork.wales
SUMMARY:Ysgrifennu Creadigol
DESCRIPTION:Ysgrifennu Creadigol gyda'r awdur a'r bardd lleol Pat Sumner a'r bardd a'r gyfansoddwraig Diana Sanders. \nLlyfrgell Rhuthun\, Record Street\, Rhuthun LL15 1DS \nByddwn yn ysgrifennu barddoniaeth\, ffuglen fflach a rhyddiaith gan ddefnyddio ymarferion ysgrifennu\, ffurf a beirniadaeth adeiladol. Ein prif nod yw creu awyrgylch cynnes\, hwyliog a chynhwysol lle bydd ysgrifennu yn blodeuo.
URL:https://ruthinartsnetwork.wales/cy/digwyddiad/ysgrifennu-creadigol-4/
LOCATION:Ruthin Library\, Record Street\, Ruthin\, Denbighshire\, LL15 1DS\, United Kingdom
ATTACH;FMTTYPE=image/jpeg:https://ruthinartsnetwork.wales/wp-content/uploads/2024/02/Creative-Writing-Poster-2-scaled.jpg
ORGANIZER;CN="Pat Sumner & Diana Sanders":MAILTO:pat.cilan@outlook.com
END:VEVENT
BEGIN:VEVENT
DTSTART;TZID=Europe/London:20240516T110000
DTEND;TZID=Europe/London:20240516T153000
DTSTAMP:20260419T150813
CREATED:20240427T202524Z
LAST-MODIFIED:20240427T203446Z
UID:725-1715857200-1715873400@ruthinartsnetwork.wales
SUMMARY:Gweithdy Gwehyddu Helyg
DESCRIPTION:Ar y cwrs undydd yma fe fyddwch chi'n defnyddio sgiliau gwehyddu traddodiadol a deunyddiau cynaliadwy naturiol i greu obelisg helyg\, gyda gwas y neidr ar ei ben\, er mwyn cefnogi planhigion dringo neu i fym fel nodwedd yn yr ardd ar ei ben ei hun. \nDarperir yr holl ddeunyddiau a lluniaeth (yn cynnwys teisen!)\, ond dewch a chinio parod gyda chi. \nPris: £55
URL:https://ruthinartsnetwork.wales/cy/digwyddiad/gweithdy-gwehyddu-helyg/
LOCATION:Nantclwyd y Dre\, Castle Street\, Ruthin\, Denbighshire\, LL15 1DP\, United Kingdom
CATEGORIES:Gweithdai
ATTACH;FMTTYPE=image/jpeg:https://ruthinartsnetwork.wales/wp-content/uploads/2024/04/1714249250698-bbc1b7c4-95cc-488c-92b4-306653a676f9_1.jpg
ORGANIZER;CN="Trish":MAILTO:trish_vic@hotmail.com
END:VEVENT
BEGIN:VEVENT
DTSTART;TZID=Europe/London:20240515T190000
DTEND;TZID=Europe/London:20240515T213000
DTSTAMP:20260419T150813
CREATED:20240423T213333Z
LAST-MODIFIED:20240423T214542Z
UID:692-1715799600-1715808600@ruthinartsnetwork.wales
SUMMARY:Digwyddiad Cymdeithasol Rhwydwaith Celfyddydau Rhuthun
DESCRIPTION:Ymunwch â ni am noson hyfryd o greadigrwydd a chysylltiad yn nigwyddiad cymdeithasol cyntaf Rhwydwaith Celfyddydau Rhuthun\, a gynhelir yn Tafarn y Ply yn Rhuthun ar Fai 15fed\, 2024. P'un a ydych yn aelod o'r rhwydwaith neu'n unigolyn creadigol yn yr ardal\, mae hyn yn mae ymgynnull yn addo bod yn gyfle gwych i gymysgu â phobl o'r un anian. \nBwriad y digwyddiad hwn yw meithrin ymdeimlad o gymuned ymhlith artistiaid\, crefftwyr a chreadigwyr lleol. P’un a ydych yn beintiwr\, cerflunydd\, awdur\, cerddor\, neu’n syml yn rhywun sydd ag angerdd am y celfyddydau\, rydym yn eich gwahodd i ymuno â ni am ddiod\, sgwrs ac i fwynhau cerddoriaeth fyw a bod yn rhan o’r hyn sy’n sicr o fod. noson gofiadwy o rwydweithio.
URL:https://ruthinartsnetwork.wales/cy/digwyddiad/digwyddiad-cymdeithasol-rhwydwaith-celfyddydau-rhuthun/
LOCATION:The Feathers\, 52 Well Street\, Ruthin\, Denbigshire\, LL15 1AW\, United Kingdom
CATEGORIES:Digwyddiadau Cymdeithasol
ATTACH;FMTTYPE=image/jpeg:https://ruthinartsnetwork.wales/wp-content/uploads/2023/10/ruthin-arts-network-fallback-hero-scaled.jpg
END:VEVENT
BEGIN:VEVENT
DTSTART;VALUE=DATE:20240503
DTEND;VALUE=DATE:20240601
DTSTAMP:20260419T150813
CREATED:20240512T121040Z
LAST-MODIFIED:20240512T121109Z
UID:749-1714694400-1717199999@ruthinartsnetwork.wales
SUMMARY:Maj Nyman - Arddangosfa Celf
DESCRIPTION:
URL:https://ruthinartsnetwork.wales/cy/digwyddiad/maj-nyman-arddangosfa-celf/
LOCATION:Ruthin Library\, Record Street\, Ruthin\, Denbighshire\, LL15 1DS\, United Kingdom
ATTACH;FMTTYPE=image/png:https://ruthinartsnetwork.wales/wp-content/uploads/2024/05/20240501-Art-exhibition-poster.png
END:VEVENT
BEGIN:VEVENT
DTSTART;TZID=Europe/London:20240427T100000
DTEND;TZID=Europe/London:20240427T120000
DTSTAMP:20260419T150813
CREATED:20240220T145114Z
LAST-MODIFIED:20240220T145147Z
UID:508-1714212000-1714219200@ruthinartsnetwork.wales
SUMMARY:Ysgrifennu Creadigol
DESCRIPTION:Ysgrifennu Creadigol gyda'r awdur a'r bardd lleol Pat Sumner a'r bardd a'r gyfansoddwraig Diana Sanders. \nLlyfrgell Rhuthun\, Record Street\, Rhuthun LL15 1DS \nByddwn yn ysgrifennu barddoniaeth\, ffuglen fflach a rhyddiaith gan ddefnyddio ymarferion ysgrifennu\, ffurf a beirniadaeth adeiladol. Ein prif nod yw creu awyrgylch cynnes\, hwyliog a chynhwysol lle bydd ysgrifennu yn blodeuo.
URL:https://ruthinartsnetwork.wales/cy/digwyddiad/ysgrifennu-creadigol-3/
LOCATION:Ruthin Library\, Record Street\, Ruthin\, Denbighshire\, LL15 1DS\, United Kingdom
ATTACH;FMTTYPE=image/jpeg:https://ruthinartsnetwork.wales/wp-content/uploads/2024/02/Creative-Writing-Poster-2-scaled.jpg
ORGANIZER;CN="Pat Sumner & Diana Sanders":MAILTO:pat.cilan@outlook.com
END:VEVENT
BEGIN:VEVENT
DTSTART;TZID=Europe/London:20240406T193000
DTEND;TZID=Europe/London:20240406T213000
DTSTAMP:20260419T150813
CREATED:20240226T215326Z
LAST-MODIFIED:20240226T215438Z
UID:593-1712431800-1712439000@ruthinartsnetwork.wales
SUMMARY:Cyngerdd Elusennol
DESCRIPTION:Cyngerdd hefo Meibion Marchan\, Côr ieuenctid Caenog a dau ganwr clasurol lleol o’r ardal sef Lisa Dafydd a Dafydd Allen. Tocynnau ar gael o Elfair
URL:https://ruthinartsnetwork.wales/cy/digwyddiad/cyngerdd-elusennol/
LOCATION:Capel Tabernacl\, Well Street\, Ruthin\, Denbighshire\, LL15 1AF\, United Kingdom
ATTACH;FMTTYPE=image/jpeg:https://ruthinartsnetwork.wales/wp-content/uploads/2024/02/ff-30078675602dd268a555042887591ca2-ff-IMG_0400.jpeg
ORGANIZER;CN="Ann Davies":MAILTO:Hafan24@hotmail. com
END:VEVENT
BEGIN:VEVENT
DTSTART;TZID=Europe/London:20240323T100000
DTEND;TZID=Europe/London:20240323T120000
DTSTAMP:20260419T150813
CREATED:20240220T145005Z
LAST-MODIFIED:20240220T145358Z
UID:504-1711188000-1711195200@ruthinartsnetwork.wales
SUMMARY:Ysgrifennu Creadigol
DESCRIPTION:Ysgrifennu Creadigol gyda'r awdur a'r bardd lleol Pat Sumner a'r bardd a'r gyfansoddwraig Diana Sanders. \nLlyfrgell Rhuthun\, Record Street\, Rhuthun LL15 1DS \nByddwn yn ysgrifennu barddoniaeth\, ffuglen fflach a rhyddiaith gan ddefnyddio ymarferion ysgrifennu\, ffurf a beirniadaeth adeiladol. Ein prif nod yw creu awyrgylch cynnes\, hwyliog a chynhwysol lle bydd ysgrifennu yn blodeuo.
URL:https://ruthinartsnetwork.wales/cy/digwyddiad/ysgrifennu-creadigol-2/
LOCATION:Ruthin Library\, Record Street\, Ruthin\, Denbighshire\, LL15 1DS\, United Kingdom
ATTACH;FMTTYPE=image/jpeg:https://ruthinartsnetwork.wales/wp-content/uploads/2024/02/Creative-Writing-Poster-2-scaled.jpg
ORGANIZER;CN="Pat Sumner & Diana Sanders":MAILTO:pat.cilan@outlook.com
END:VEVENT
BEGIN:VEVENT
DTSTART;TZID=Europe/London:20240227T133000
DTEND;TZID=Europe/London:20240227T153000
DTSTAMP:20260419T150813
CREATED:20240223T160246Z
LAST-MODIFIED:20240223T170735Z
UID:569-1709040600-1709047800@ruthinartsnetwork.wales
SUMMARY:Ar Goll Mewn Celf
DESCRIPTION:Grŵp celf a chrefft ar gyfer pobl sy’n byw gyda dementia a’u gofalwyr. \nRhaid archebu lle - ffoniwch 07799 582766
URL:https://ruthinartsnetwork.wales/cy/digwyddiad/ar-goll-mewn-celf/
LOCATION:Ruthin Craft Centre\, Lon Parcwr\, Ruthin\, Denbighshire\, LL15 1BB\, United Kingdom
ATTACH;FMTTYPE=image/jpeg:https://ruthinartsnetwork.wales/wp-content/uploads/2024/02/ff-55ba9e67c035eaa486adefcc3ecc1fd6-ff-wk-3-clay-2-scaled.jpg
END:VEVENT
BEGIN:VEVENT
DTSTART;TZID=Europe/London:20240224T100000
DTEND;TZID=Europe/London:20240224T120000
DTSTAMP:20260419T150813
CREATED:20240220T144032Z
LAST-MODIFIED:20240220T145317Z
UID:496-1708768800-1708776000@ruthinartsnetwork.wales
SUMMARY:Ysgrifennu Creadigol
DESCRIPTION:Ysgrifennu Creadigol gyda'r awdur a'r bardd lleol Pat Sumner a'r bardd a'r gyfansoddwraig Diana Sanders. \nLlyfrgell Rhuthun\, Record Street\, Rhuthun LL15 1DS \nByddwn yn ysgrifennu barddoniaeth\, ffuglen fflach a rhyddiaith gan ddefnyddio ymarferion ysgrifennu\, ffurf a beirniadaeth adeiladol. Ein prif nod yw creu awyrgylch cynnes\, hwyliog a chynhwysol lle bydd ysgrifennu yn blodeuo.
URL:https://ruthinartsnetwork.wales/cy/digwyddiad/ysgrifennu-creadigol/
LOCATION:Ruthin Library\, Record Street\, Ruthin\, Denbighshire\, LL15 1DS\, United Kingdom
ATTACH;FMTTYPE=image/jpeg:https://ruthinartsnetwork.wales/wp-content/uploads/2024/02/Creative-Writing-Poster-2-scaled.jpg
ORGANIZER;CN="Pat Sumner & Diana Sanders":MAILTO:pat.cilan@outlook.com
END:VEVENT
END:VCALENDAR